BEGIN:VCALENDAR
VERSION:2.0
PRODID:-//ChamberMaster//Event Calendar 2.0//EN
METHOD:PUBLISH
X-PUBLISHED-TTL:P3D
REFRESH-INTERVAL:P3D
CALSCALE:GREGORIAN
BEGIN:VEVENT
DTSTART:20220422T000000Z
DTEND:20220422T020000Z
X-MICROSOFT-CDO-ALLDAYEVENT:FALSE
SUMMARY:Earth Day Guest Speaker "Bruce Vincent"
DESCRIPTION:Bruce Vincent is a third generation logger from Libby\, Montana. He is co-owner of the public relations firm Environomics\, volunteers as Executive Director of Provider Pals\, and is a board member of the Evergreen Foundation. Bruce speaks throughout the United States and the world\, testifies on resource issues before Congress and has appeared on several news programs such as "60 Minutes". Bruce has been named Timberman of the Year in Montana\, National Forest Activist of the Year\, received the inaugural Presidential Preserve America Award from President Bush\, has been named 'Keeper of the 10th' by Women in Farm Economics and received American Agri-Women's Veritas Award. He recently co-wrote a book named 'Against the Odds: A Path Forward for Rural America'. It is a powerful firsthand account of life in rural America that offers a broad\, probing look at the environmental tensions surrounding the collapse of many of our rural resource communities. Bruce and his wife of 42 years\, Patti Jo\, have four children and 12 grandchildren. His current activities represent a family commitment to responsible environmentalism.
X-ALT-DESC;FMTTYPE=text/html:<table border="0" cellpadding="0" cellspacing="0" class="twEDContent" role="presentation" style="line-height: 1.4em\; width: 662px\; caret-color: rgb(0\, 0\, 0)\; color: rgb(0\, 0\, 0)\; font-family: helvetica\, arial\, sans-serif\; font-size: 13.3333px\; text-indent: 0px\; text-size-adjust: auto\; table-layout: fixed\;">\n	<tbody style="line-height: 1.4em\;">\n		<tr style="line-height: 1.4em\; vertical-align: top\;">\n			<td class="twEDContentCell" style="line-height: 1.4em\; padding: 0px\;">\n			<div class="twEDNotes" style="line-height: 1.4em\; font-size: 9pt\;">\n			<p class="onlyp" style="line-height: 1.4em\; margin: 1em 0px\;">Bruce Vincent is a third generation logger from Libby\, Montana. He is co-owner of the public relations firm Environomics\, volunteers as Executive Director of Provider Pals\, and is a board member of the Evergreen Foundation. Bruce speaks throughout the United States and the world\, testifies on resource issues before Congress and has appeared on several news programs such as &ldquo\;60 Minutes&rdquo\;. Bruce has been named Timberman of the Year in Montana\, National Forest Activist of the Year\, received the inaugural Presidential Preserve America Award from President Bush\, has been named &lsquo\;Keeper of the 10th&rsquo\; by Women in Farm Economics and received American Agri-Women&#39\;s Veritas Award. He recently co-wrote a book named &#39\;Against the Odds: A Path Forward for Rural America&#39\;. It is a powerful firsthand account of life in rural America that offers a broad\, probing look at the environmental tensions surrounding the collapse of many of our rural resource communities. Bruce and his wife of 42 years\, Patti Jo\, have four children and 12 grandchildren. His current activities represent a family commitment to responsible environmentalism.</p>\n			</div>\n			</td>\n		</tr>\n	</tbody>\n</table>\n
LOCATION:Chadron State College Student Center Ballroom
UID:e.2623.3326
SEQUENCE:3
DTSTAMP:20260420T081355Z
URL:https://www.chadron.com/events/details/earth-day-guest-speaker-bruce-vincent-3326
END:VEVENT

END:VCALENDAR
