BEGIN:VCALENDAR
VERSION:2.0
PRODID:-//ChamberMaster//Event Calendar 2.0//EN
METHOD:PUBLISH
X-PUBLISHED-TTL:P3D
REFRESH-INTERVAL:P3D
CALSCALE:GREGORIAN
BEGIN:VEVENT
DTSTART:20210410T143000Z
DTEND:20210410T190000Z
X-MICROSOFT-CDO-ALLDAYEVENT:FALSE
SUMMARY:St Patricks Rummage Room
DESCRIPTION:Looking for second hand items? Stop and check out the St. Patrick's rummage room\, there are always plenty of items to browse. Please use the North Door.
X-ALT-DESC;FMTTYPE=text/html:<span style="font-family: Arial\; background-color: rgb(255\, 255\, 255)\;">Looking for second hand items? Stop and check out the St. Patrick&#39\;s rummage room\, there are always plenty of items to browse. Please use the North Door.</span>
LOCATION:St. Patrick's Catholic Church 4th & Cedar St.
UID:e.2623.824
SEQUENCE:3
DTSTAMP:20260421T081419Z
URL:https://www.chadron.com/events/details/st-patraicks-rummage-room-04-10-2021-824
END:VEVENT

END:VCALENDAR
